BEGIN:VCALENDAR
VERSION:2.0
PRODID:-//Fiore Winery - ECPv6.15.20//NONSGML v1.0//EN
CALSCALE:GREGORIAN
METHOD:PUBLISH
X-ORIGINAL-URL:https://www.fiorewinery.com
X-WR-CALDESC:Events for Fiore Winery
REFRESH-INTERVAL;VALUE=DURATION:PT1H
X-Robots-Tag:noindex
X-PUBLISHED-TTL:PT1H
BEGIN:VTIMEZONE
TZID:America/New_York
BEGIN:DAYLIGHT
TZOFFSETFROM:-0500
TZOFFSETTO:-0400
TZNAME:EDT
DTSTART:20240310T070000
END:DAYLIGHT
BEGIN:STANDARD
TZOFFSETFROM:-0400
TZOFFSETTO:-0500
TZNAME:EST
DTSTART:20241103T060000
END:STANDARD
BEGIN:DAYLIGHT
TZOFFSETFROM:-0500
TZOFFSETTO:-0400
TZNAME:EDT
DTSTART:20250309T070000
END:DAYLIGHT
BEGIN:STANDARD
TZOFFSETFROM:-0400
TZOFFSETTO:-0500
TZNAME:EST
DTSTART:20251102T060000
END:STANDARD
BEGIN:DAYLIGHT
TZOFFSETFROM:-0500
TZOFFSETTO:-0400
TZNAME:EDT
DTSTART:20260308T070000
END:DAYLIGHT
BEGIN:STANDARD
TZOFFSETFROM:-0400
TZOFFSETTO:-0500
TZNAME:EST
DTSTART:20261101T060000
END:STANDARD
END:VTIMEZONE
BEGIN:VEVENT
DTSTART;TZID=America/New_York:20250907T130000
DTEND;TZID=America/New_York:20250907T160000
DTSTAMP:20260419T104443
CREATED:20250124T202649Z
LAST-MODIFIED:20250124T202649Z
UID:31218-1757250000-1757260800@www.fiorewinery.com
SUMMARY:Music in the Vineyard with Relicoustic
DESCRIPTION:Bring a picnic basket and relax outside with live music from Relicoustic. \nThere are no tickets required\, tastings and chilled bottles will be available for purchase. \nEvent moves indoors with seating available if inclement weather occurs. \nLive Music: Relicoustic
URL:https://www.fiorewinery.com/event/music-in-the-vineyard-with-relicoustic/
LOCATION:Fiore Winery\, 3026 Whiteford Road\, Pylseville\, MD\, 21132\, United States
CATEGORIES:Music in the Vineyard
ATTACH;FMTTYPE=image/jpeg:/wp-content/uploads/2019/12/music-in-the-vineyard.jpg
END:VEVENT
BEGIN:VEVENT
DTSTART;TZID=America/New_York:20250910T183000
DTEND;TZID=America/New_York:20250910T193000
DTSTAMP:20260419T104443
CREATED:20250717T195432Z
LAST-MODIFIED:20250717T195432Z
UID:31354-1757529000-1757532600@www.fiorewinery.com
SUMMARY:Whisper & Quill Quiet Book Club
DESCRIPTION:In honor of HCPL’s 80th Anniversary\, join us for a quarterly series of silent reading sessions at select Harford County establishments. Join us at Fiore Winery & Distillery\, 3026 Whiteford Rd in Pylesville. Enjoy a peaceful atmosphere where the only sounds are the turning of pages and the whispers of imagination. Bring your favorite book or discover a new one from HCPL’s collection. Each attendee will receive a commemorative HCPL bookmark! Registration is recommended. \nClick here to register
URL:https://www.fiorewinery.com/event/whisper-quill-quiet-book-club/
LOCATION:Fiore Winery\, 3026 Whiteford Road\, Pylseville\, MD\, 21132\, United States
END:VEVENT
END:VCALENDAR