BEGIN:VCALENDAR
VERSION:2.0
PRODID:-//Fiore Winery - ECPv6.15.20//NONSGML v1.0//EN
CALSCALE:GREGORIAN
METHOD:PUBLISH
X-ORIGINAL-URL:https://www.fiorewinery.com
X-WR-CALDESC:Events for Fiore Winery
REFRESH-INTERVAL;VALUE=DURATION:PT1H
X-Robots-Tag:noindex
X-PUBLISHED-TTL:PT1H
BEGIN:VTIMEZONE
TZID:America/New_York
BEGIN:DAYLIGHT
TZOFFSETFROM:-0500
TZOFFSETTO:-0400
TZNAME:EDT
DTSTART:20190310T070000
END:DAYLIGHT
BEGIN:STANDARD
TZOFFSETFROM:-0400
TZOFFSETTO:-0500
TZNAME:EST
DTSTART:20191103T060000
END:STANDARD
BEGIN:DAYLIGHT
TZOFFSETFROM:-0500
TZOFFSETTO:-0400
TZNAME:EDT
DTSTART:20200308T070000
END:DAYLIGHT
BEGIN:STANDARD
TZOFFSETFROM:-0400
TZOFFSETTO:-0500
TZNAME:EST
DTSTART:20201101T060000
END:STANDARD
BEGIN:DAYLIGHT
TZOFFSETFROM:-0500
TZOFFSETTO:-0400
TZNAME:EDT
DTSTART:20210314T070000
END:DAYLIGHT
BEGIN:STANDARD
TZOFFSETFROM:-0400
TZOFFSETTO:-0500
TZNAME:EST
DTSTART:20211107T060000
END:STANDARD
END:VTIMEZONE
BEGIN:VEVENT
DTSTART;TZID=America/New_York:20200204T080000
DTEND;TZID=America/New_York:20200204T170000
DTSTAMP:20260419T103452
CREATED:20191015T184406Z
LAST-MODIFIED:20191015T184406Z
UID:16898-1580803200-1580835600@www.fiorewinery.com
SUMMARY:Senior Day
DESCRIPTION:Come meet your friends and bring a picnic snack or just relax and gossip. \nYou are welcome to bring table games. \nEvery Tuesday is Senior Day at the Fiore Tasting Room. \nGuests 60+ are welcome to a free tasting and 10% off all purchases.
URL:https://www.fiorewinery.com/event/senior-day-28/
LOCATION:Fiore Winery\, 3026 Whiteford Road\, Pylseville\, MD\, 21132\, United States
CATEGORIES:Wine Tasting
END:VEVENT
BEGIN:VEVENT
DTSTART;TZID=America/New_York:20200211T100000
DTEND;TZID=America/New_York:20200211T170000
DTSTAMP:20260419T103452
CREATED:20191015T184447Z
LAST-MODIFIED:20191015T184447Z
UID:16900-1581415200-1581440400@www.fiorewinery.com
SUMMARY:Senior Day
DESCRIPTION:Come meet your friends and bring a picnic snack or just relax and gossip. \nYou are welcome to bring table games. \nEvery Tuesday is Senior Day at the Fiore Tasting Room. \nGuests 60+ are welcome to a free tasting and 10% off all purchases.
URL:https://www.fiorewinery.com/event/senior-day-29/
LOCATION:Fiore Winery\, 3026 Whiteford Road\, Pylseville\, MD\, 21132\, United States
CATEGORIES:Wine Tasting
END:VEVENT
BEGIN:VEVENT
DTSTART;VALUE=DATE:20200214
DTEND;VALUE=DATE:20200218
DTSTAMP:20260419T103452
CREATED:20200110T211915Z
LAST-MODIFIED:20200205T150353Z
UID:17934-1581638400-1581983999@www.fiorewinery.com
SUMMARY:Sangiovese Vertical Tasting
DESCRIPTION:Join us at Fiore Winery’s tasting room during your Valentine’s Day weekend for a special vertical tasting of Sangiovese. \nFor $10 Sample 5 different vintages of our estate grown Sangiovese and experience the unique differences from year to year and enjoy a glass of prosecco. Guests also receive 15% off purchases of 3 or more bottles of Sangiovese. \nSamples of our wine cheese\, snacks and crackers will also available. \n 
URL:https://www.fiorewinery.com/event/sangiovese-vertical-tasting/
LOCATION:Fiore Winery\, 3026 Whiteford Road\, Pylseville\, MD\, 21132\, United States
CATEGORIES:Wine Tasting
END:VEVENT
BEGIN:VEVENT
DTSTART;TZID=America/New_York:20200218T080000
DTEND;TZID=America/New_York:20200218T170000
DTSTAMP:20260419T103452
CREATED:20191015T184522Z
LAST-MODIFIED:20191015T184522Z
UID:16902-1582012800-1582045200@www.fiorewinery.com
SUMMARY:Senior Day
DESCRIPTION:Come meet your friends and bring a picnic snack or just relax and gossip. \nYou are welcome to bring table games. \nEvery Tuesday is Senior Day at the Fiore Tasting Room. \nGuests 60+ are welcome to a free tasting and 10% off all purchases.
URL:https://www.fiorewinery.com/event/senior-day-30/
LOCATION:Fiore Winery\, 3026 Whiteford Road\, Pylseville\, MD\, 21132\, United States
CATEGORIES:Wine Tasting
END:VEVENT
BEGIN:VEVENT
DTSTART;TZID=America/New_York:20200225T100000
DTEND;TZID=America/New_York:20200225T170000
DTSTAMP:20260419T103452
CREATED:20191015T184606Z
LAST-MODIFIED:20191015T184606Z
UID:16904-1582624800-1582650000@www.fiorewinery.com
SUMMARY:Senior Day
DESCRIPTION:Come meet your friends and bring a picnic snack or just relax and gossip. \nYou are welcome to bring table games. \nEvery Tuesday is Senior Day at the Fiore Tasting Room. \nGuests 60+ are welcome to a free tasting and 10% off all purchases.
URL:https://www.fiorewinery.com/event/senior-day-31/
LOCATION:Fiore Winery\, 3026 Whiteford Road\, Pylseville\, MD\, 21132\, United States
CATEGORIES:Wine Tasting
END:VEVENT
END:VCALENDAR