BEGIN:VCALENDAR
VERSION:2.0
PRODID:-//Fiore Winery - ECPv6.15.20//NONSGML v1.0//EN
CALSCALE:GREGORIAN
METHOD:PUBLISH
X-WR-CALNAME:Fiore Winery
X-ORIGINAL-URL:https://www.fiorewinery.com
X-WR-CALDESC:Events for Fiore Winery
REFRESH-INTERVAL;VALUE=DURATION:PT1H
X-Robots-Tag:noindex
X-PUBLISHED-TTL:PT1H
BEGIN:VTIMEZONE
TZID:America/New_York
BEGIN:DAYLIGHT
TZOFFSETFROM:-0500
TZOFFSETTO:-0400
TZNAME:EDT
DTSTART:20180311T070000
END:DAYLIGHT
BEGIN:STANDARD
TZOFFSETFROM:-0400
TZOFFSETTO:-0500
TZNAME:EST
DTSTART:20181104T060000
END:STANDARD
BEGIN:DAYLIGHT
TZOFFSETFROM:-0500
TZOFFSETTO:-0400
TZNAME:EDT
DTSTART:20190310T070000
END:DAYLIGHT
BEGIN:STANDARD
TZOFFSETFROM:-0400
TZOFFSETTO:-0500
TZNAME:EST
DTSTART:20191103T060000
END:STANDARD
BEGIN:DAYLIGHT
TZOFFSETFROM:-0500
TZOFFSETTO:-0400
TZNAME:EDT
DTSTART:20200308T070000
END:DAYLIGHT
BEGIN:STANDARD
TZOFFSETFROM:-0400
TZOFFSETTO:-0500
TZNAME:EST
DTSTART:20201101T060000
END:STANDARD
END:VTIMEZONE
BEGIN:VEVENT
DTSTART;VALUE=DATE:20191001
DTEND;VALUE=DATE:20191002
DTSTAMP:20260419T165232
CREATED:20190809T122026Z
LAST-MODIFIED:20190809T122026Z
UID:16214-1569888000-1569974399@www.fiorewinery.com
SUMMARY:Senior Day
DESCRIPTION:Come meet your friends and bring a picnic snack or just relax and gossip. \nYou are welcome to bring table games. \nEvery Tuesday is Senior Day at the Fiore Tasting Room\, \nGuests 60+ are welcome to a free tasting and 10% off all purchases.
URL:https://www.fiorewinery.com/event/senior-day-10/
LOCATION:Fiore Winery\, 3026 Whiteford Road\, Pylseville\, MD\, 21132\, United States
END:VEVENT
BEGIN:VEVENT
DTSTART;TZID=America/New_York:20191006T130000
DTEND;TZID=America/New_York:20191006T170000
DTSTAMP:20260419T165232
CREATED:20190927T121907Z
LAST-MODIFIED:20190927T121907Z
UID:16718-1570366800-1570381200@www.fiorewinery.com
SUMMARY:Music in the Garden at Van Houten Gardens
DESCRIPTION:Join us Sunday\, October 6th from 1-5pm at Van Houten Gardens of Bel Air for Live Muisc\, Local Beer\, Wine\, & Food.
URL:https://www.fiorewinery.com/event/music-in-the-garden-at-van-houten-gardens/
LOCATION:MD
END:VEVENT
BEGIN:VEVENT
DTSTART;VALUE=DATE:20191019
DTEND;VALUE=DATE:20191021
DTSTAMP:20260419T165232
CREATED:20190603T205213Z
LAST-MODIFIED:20190906T190118Z
UID:15570-1571443200-1571615999@www.fiorewinery.com
SUMMARY:Halloween on The Gunpowder Wine Trail Weekend 3 at Fiore Winery
DESCRIPTION:Join us for weekend 3 of the Halloween on the Gunpowder Wine Trail. As we get closer to Halloween we wanted everyone to be prepared for the onslaught of treats. The Fiore tasting room will be hosting a preselected wine tasting that guides you on which popular halloween candies can be paired to our selected wines. We will also be offering a spooky blood colored mixed drink.
URL:https://www.fiorewinery.com/event/halloween-on-the-gunpowder-wine-trail/
LOCATION:Fiore Winery\, 3026 Whiteford Road\, Pylseville\, MD\, 21132\, United States
CATEGORIES:Gunpowder Wine Trail
END:VEVENT
BEGIN:VEVENT
DTSTART;TZID=America/New_York:20191019T070000
DTEND;TZID=America/New_York:20191019T110000
DTSTAMP:20260419T165232
CREATED:20190319T152205Z
LAST-MODIFIED:20190319T152205Z
UID:14840-1571468400-1571482800@www.fiorewinery.com
SUMMARY:Fiore Winery at The Bel Air Farmer's Market
DESCRIPTION:Celebrating 44 years of serving locally produced fruit\, produce\, meats and more\nto the Harford County community  this 2018 season!\nWe are a producer only market – so everything you see is grown\, raised or made by our vendors!\nIn addition to our farmers\, specialty vendors and local wineries\, breweries & distilleries are part of our market family!\n(see event schedule for weekly attendance)\nWhen shopping at Bel Air Farmers’ Market\, you have all your shopping needs met in one stop!\nBuy Local- Love Local- Eat Local
URL:https://www.fiorewinery.com/event/fiore-winery-at-the-bel-air-farmers-market-14/
LOCATION:MD
CATEGORIES:Farmer's Market
END:VEVENT
END:VCALENDAR