BEGIN:VCALENDAR
VERSION:2.0
PRODID:-//Fiore Winery - ECPv6.15.20//NONSGML v1.0//EN
CALSCALE:GREGORIAN
METHOD:PUBLISH
X-WR-CALNAME:Fiore Winery
X-ORIGINAL-URL:https://www.fiorewinery.com
X-WR-CALDESC:Events for Fiore Winery
REFRESH-INTERVAL;VALUE=DURATION:PT1H
X-Robots-Tag:noindex
X-PUBLISHED-TTL:PT1H
BEGIN:VTIMEZONE
TZID:America/New_York
BEGIN:DAYLIGHT
TZOFFSETFROM:-0500
TZOFFSETTO:-0400
TZNAME:EDT
DTSTART:20180311T070000
END:DAYLIGHT
BEGIN:STANDARD
TZOFFSETFROM:-0400
TZOFFSETTO:-0500
TZNAME:EST
DTSTART:20181104T060000
END:STANDARD
BEGIN:DAYLIGHT
TZOFFSETFROM:-0500
TZOFFSETTO:-0400
TZNAME:EDT
DTSTART:20190310T070000
END:DAYLIGHT
BEGIN:STANDARD
TZOFFSETFROM:-0400
TZOFFSETTO:-0500
TZNAME:EST
DTSTART:20191103T060000
END:STANDARD
BEGIN:DAYLIGHT
TZOFFSETFROM:-0500
TZOFFSETTO:-0400
TZNAME:EDT
DTSTART:20200308T070000
END:DAYLIGHT
BEGIN:STANDARD
TZOFFSETFROM:-0400
TZOFFSETTO:-0500
TZNAME:EST
DTSTART:20201101T060000
END:STANDARD
END:VTIMEZONE
BEGIN:VEVENT
DTSTART;TZID=America/New_York:20190901T130000
DTEND;TZID=America/New_York:20190901T160000
DTSTAMP:20260419T182859
CREATED:20190129T141412Z
LAST-MODIFIED:20190826T181641Z
UID:14181-1567342800-1567353600@www.fiorewinery.com
SUMMARY:Music in the Vineyard with Gil Bruns
DESCRIPTION:Bring a picnic basket and relax outside with live music from Gil Bruns. There are no tickets required\, chilled bottles will be available for purchase\, and tastings are $5-10 per person with a souviner wine glass. \nhttp://gilbruns.wixsite.com/gil-bruns/about
URL:https://www.fiorewinery.com/event/music-in-the-vineyard-with-gil-bruns-5/
LOCATION:Fiore Winery\, 3026 Whiteford Road\, Pylseville\, MD\, 21132\, United States
CATEGORIES:Music in the Vineyard
ATTACH;FMTTYPE=image/jpeg:/wp-content/uploads/2018/01/Gil-Bruns.jpg
ORGANIZER;CN="Rose Fiore":MAILTO:contact@fiorewinery.com
END:VEVENT
BEGIN:VEVENT
DTSTART;TZID=America/New_York:20190908T130000
DTEND;TZID=America/New_York:20190908T160000
DTSTAMP:20260419T182859
CREATED:20190129T193946Z
LAST-MODIFIED:20190129T193946Z
UID:14193-1567947600-1567958400@www.fiorewinery.com
SUMMARY:Music in the Vineyard with Tony Lardieri
DESCRIPTION:Bring a picnic basket and relax outside with live music from Tony Lardieri. There are no tickets required\, chilled bottles will be available for purchase\, and tastings are $5-10 per person with a souviner wine glass. \nTony Lardieri Acoustic
URL:https://www.fiorewinery.com/event/music-in-the-vineyard-with-tony-lardieri-3/
LOCATION:Fiore Winery\, 3026 Whiteford Road\, Pylseville\, MD\, 21132\, United States
CATEGORIES:Music in the Vineyard
ATTACH;FMTTYPE=image/jpeg:/wp-content/uploads/2019/01/Tony-Lardieri-e1548790646757.jpg
ORGANIZER;CN="Rose Fiore":MAILTO:contact@fiorewinery.com
END:VEVENT
BEGIN:VEVENT
DTSTART;TZID=America/New_York:20190915T130000
DTEND;TZID=America/New_York:20190915T160000
DTSTAMP:20260419T182859
CREATED:20190208T134951Z
LAST-MODIFIED:20190208T135015Z
UID:14312-1568552400-1568563200@www.fiorewinery.com
SUMMARY:Music in the Vineyard with The Birch Run Duo
DESCRIPTION:Bring a picnic basket and relax outside with live music from The Birch Run Duo. There are no tickets required\, chilled bottles will be available for purchase\, and tastings are $5-10 per person with a souviner wine glass. \nhttp://birchrun.yolasite.com/
URL:https://www.fiorewinery.com/event/music-in-the-vineyard-with-the-birch-run-duo-2/
LOCATION:Fiore Winery\, 3026 Whiteford Road\, Pylseville\, MD\, 21132\, United States
CATEGORIES:Music in the Vineyard
ATTACH;FMTTYPE=image/jpeg:/wp-content/uploads/2019/01/BirchRunDuo.jpg
ORGANIZER;CN="Rose Fiore":MAILTO:contact@fiorewinery.com
END:VEVENT
BEGIN:VEVENT
DTSTART;VALUE=DATE:20190921
DTEND;VALUE=DATE:20190922
DTSTAMP:20260419T182859
CREATED:20190128T165651Z
LAST-MODIFIED:20190128T165651Z
UID:14132-1569024000-1569110399@www.fiorewinery.com
SUMMARY:Maryland Wine Festival
DESCRIPTION:Maryland Wine Festival
URL:https://www.fiorewinery.com/event/maryland-wine-festival-2/
LOCATION:MD
CATEGORIES:Wine Festival
END:VEVENT
BEGIN:VEVENT
DTSTART;TZID=America/New_York:20190921T170000
DTEND;TZID=America/New_York:20190921T210000
DTSTAMP:20260419T182859
CREATED:20190826T190932Z
LAST-MODIFIED:20190826T190932Z
UID:16371-1569085200-1569099600@www.fiorewinery.com
SUMMARY:Stirrup the Dust ~ Farm to Table ~ CTR's Annual Fundraiser
DESCRIPTION:Stirrup the Dust is going Farm to Table in 2019! Please join us on Saturday\, September 21\, 2019\, from 5:00 p.m. to 9:00 p.m. at the Bel Air Armory! Enjoy delicious fare from Mamma Mish’s Homemade Dishes\, local wine from Fiore Winery\, local craft beer from Slate Farm Brewery\, and homemade ice cream from Broom’s Blooms! Music is provided by brothers\, Troy & Tony. Buttons\, CTR’s Ambassador\, will make an appearance and we will have a fabulous basket auction! \n\n \nPlease click here to purchase tickets\n\n**(Tickets must be purchased in advance. There will be no ticket sales at the door.)**\n\n\n \n\n\nProceeds will help CTR continue to make a difference in the lives of kids and adults with differing abilities\, including our veterans at Perry Point.\n\n\nPlease visit CTR Website for additional details.
URL:https://www.fiorewinery.com/event/stirrup-the-dust-farm-to-table-ctrs-annual-fundraiser/
LOCATION:MD
ATTACH;FMTTYPE=image/png:/wp-content/uploads/2019/08/StirrupTheDust.png
END:VEVENT
BEGIN:VEVENT
DTSTART;VALUE=DATE:20190922
DTEND;VALUE=DATE:20190923
DTSTAMP:20260419T182859
CREATED:20190128T165747Z
LAST-MODIFIED:20190128T165747Z
UID:14135-1569110400-1569196799@www.fiorewinery.com
SUMMARY:Maryland Wine Festival
DESCRIPTION:Maryland Wine Festival
URL:https://www.fiorewinery.com/event/maryland-wine-festival-3/
LOCATION:MD
CATEGORIES:Wine Festival
END:VEVENT
BEGIN:VEVENT
DTSTART;VALUE=DATE:20190924
DTEND;VALUE=DATE:20190925
DTSTAMP:20260419T182859
CREATED:20190809T121939Z
LAST-MODIFIED:20190809T121939Z
UID:16212-1569283200-1569369599@www.fiorewinery.com
SUMMARY:Senior Day
DESCRIPTION:Come meet your friends and bring a picnic snack or just relax and gossip. \nYou are welcome to bring table games. \nEvery Tuesday is Senior Day at the Fiore Tasting Room\, \nGuests 60+ are welcome to a free tasting and 10% off all purchases.
URL:https://www.fiorewinery.com/event/senior-day-9/
LOCATION:Fiore Winery\, 3026 Whiteford Road\, Pylseville\, MD\, 21132\, United States
END:VEVENT
BEGIN:VEVENT
DTSTART;TZID=America/New_York:20190928T070000
DTEND;TZID=America/New_York:20190928T110000
DTSTAMP:20260419T182859
CREATED:20190319T152242Z
LAST-MODIFIED:20190319T152242Z
UID:14839-1569654000-1569668400@www.fiorewinery.com
SUMMARY:Fiore Winery at The Bel Air Farmer's Market
DESCRIPTION:Celebrating 44 years of serving locally produced fruit\, produce\, meats and more\nto the Harford County community  this 2018 season!\nWe are a producer only market – so everything you see is grown\, raised or made by our vendors!\nIn addition to our farmers\, specialty vendors and local wineries\, breweries & distilleries are part of our market family!\n(see event schedule for weekly attendance)\nWhen shopping at Bel Air Farmers’ Market\, you have all your shopping needs met in one stop!\nBuy Local- Love Local- Eat Local
URL:https://www.fiorewinery.com/event/fiore-winery-at-the-bel-air-farmers-market-15/
LOCATION:MD
CATEGORIES:Farmer's Market
END:VEVENT
END:VCALENDAR