BEGIN:VCALENDAR
VERSION:2.0
PRODID:-//Fiore Winery - ECPv6.15.20//NONSGML v1.0//EN
CALSCALE:GREGORIAN
METHOD:PUBLISH
X-ORIGINAL-URL:https://www.fiorewinery.com
X-WR-CALDESC:Events for Fiore Winery
REFRESH-INTERVAL;VALUE=DURATION:PT1H
X-Robots-Tag:noindex
X-PUBLISHED-TTL:PT1H
BEGIN:VTIMEZONE
TZID:America/New_York
BEGIN:DAYLIGHT
TZOFFSETFROM:-0500
TZOFFSETTO:-0400
TZNAME:EDT
DTSTART:20180311T070000
END:DAYLIGHT
BEGIN:STANDARD
TZOFFSETFROM:-0400
TZOFFSETTO:-0500
TZNAME:EST
DTSTART:20181104T060000
END:STANDARD
BEGIN:DAYLIGHT
TZOFFSETFROM:-0500
TZOFFSETTO:-0400
TZNAME:EDT
DTSTART:20190310T070000
END:DAYLIGHT
BEGIN:STANDARD
TZOFFSETFROM:-0400
TZOFFSETTO:-0500
TZNAME:EST
DTSTART:20191103T060000
END:STANDARD
BEGIN:DAYLIGHT
TZOFFSETFROM:-0500
TZOFFSETTO:-0400
TZNAME:EDT
DTSTART:20200308T070000
END:DAYLIGHT
BEGIN:STANDARD
TZOFFSETFROM:-0400
TZOFFSETTO:-0500
TZNAME:EST
DTSTART:20201101T060000
END:STANDARD
END:VTIMEZONE
BEGIN:VEVENT
DTSTART;VALUE=DATE:20190704
DTEND;VALUE=DATE:20190705
DTSTAMP:20260419T212918
CREATED:20190701T200728Z
LAST-MODIFIED:20190701T200728Z
UID:15879-1562198400-1562284799@www.fiorewinery.com
SUMMARY:O P E N
DESCRIPTION:Happy Fourth of July! \nTasting room is open 10am-5pm \n 
URL:https://www.fiorewinery.com/event/o-p-e-n/
LOCATION:Fiore Winery\, 3026 Whiteford Road\, Pylseville\, MD\, 21132\, United States
ATTACH;FMTTYPE=image/jpeg:/wp-content/uploads/2019/07/USA-Flag-e1562011624161.jpg
END:VEVENT
BEGIN:VEVENT
DTSTART;TZID=America/New_York:20190707T130000
DTEND;TZID=America/New_York:20190707T160000
DTSTAMP:20260419T212918
CREATED:20190129T141322Z
LAST-MODIFIED:20190129T141322Z
UID:14179-1562504400-1562515200@www.fiorewinery.com
SUMMARY:Music in the Vineyard with Gil Bruns
DESCRIPTION:Bring a picnic basket and relax outside with live music from Gil Bruns. There are no tickets required\, chilled bottles will be available for purchase\, and tastings are $5-10 per person with a souviner wine glass. \nhttp://gilbruns.wixsite.com/gil-bruns/about
URL:https://www.fiorewinery.com/event/music-in-the-vineyard-with-gil-bruns-4/
LOCATION:Fiore Winery\, 3026 Whiteford Road\, Pylseville\, MD\, 21132\, United States
CATEGORIES:Music in the Vineyard
ATTACH;FMTTYPE=image/jpeg:/wp-content/uploads/2018/01/Gil-Bruns.jpg
ORGANIZER;CN="Rose Fiore":MAILTO:contact@fiorewinery.com
END:VEVENT
BEGIN:VEVENT
DTSTART;TZID=America/New_York:20190714T130000
DTEND;TZID=America/New_York:20190714T160000
DTSTAMP:20260419T212918
CREATED:20190128T163028Z
LAST-MODIFIED:20190128T163028Z
UID:14113-1563109200-1563120000@www.fiorewinery.com
SUMMARY:Music in the Vineyard with Joel McGuire
DESCRIPTION:Bring a picnic basket and relax outside with live music from Joel McGuire. There are no tickets required\, chilled bottles will be available for purchase\, and tastings are $5-10 per person with a souviner wine glass. \nhttp://www.joelmcguire.com/
URL:https://www.fiorewinery.com/event/music-in-the-vineyard-with-joel-mcguire-7/
LOCATION:Fiore Winery\, 3026 Whiteford Road\, Pylseville\, MD\, 21132\, United States
CATEGORIES:Music in the Vineyard
ATTACH;FMTTYPE=image/jpeg:/wp-content/uploads/2018/01/Joel-McGuire-e1548693430221.jpg
ORGANIZER;CN="Rose Fiore":MAILTO:contact@fiorewinery.com
END:VEVENT
BEGIN:VEVENT
DTSTART;TZID=America/New_York:20190721T130000
DTEND;TZID=America/New_York:20190721T160000
DTSTAMP:20260419T212918
CREATED:20190128T203357Z
LAST-MODIFIED:20190128T203357Z
UID:14166-1563714000-1563724800@www.fiorewinery.com
SUMMARY:Music in the Vineyard with Little Scarecrow
DESCRIPTION:Bring a picnic basket and relax outside with live music from Little Scarecrow. There are no tickets required\, chilled bottles will be available for purchase\, and tastings are $5-10 per person with a souviner wine glass. \nhttps://www.facebook.com/littlescarecrowband/
URL:https://www.fiorewinery.com/event/music-in-the-vineyard-with-little-scarecrow-6/
LOCATION:Fiore Winery\, 3026 Whiteford Road\, Pylseville\, MD\, 21132\, United States
CATEGORIES:Music in the Vineyard
ATTACH;FMTTYPE=image/jpeg:/wp-content/uploads/2018/03/LittleScarecrow.jpg
ORGANIZER;CN="Rose Fiore":MAILTO:contact@fiorewinery.com
END:VEVENT
BEGIN:VEVENT
DTSTART;TZID=America/New_York:20190721T130000
DTEND;TZID=America/New_York:20190721T160000
DTSTAMP:20260419T212918
CREATED:20190524T121812Z
LAST-MODIFIED:20190701T202316Z
UID:15489-1563714000-1563724800@www.fiorewinery.com
SUMMARY:Wags & Wine
DESCRIPTION:Wags & Wine Event – Meet & Greet AKC Dog Breeds\nSIT\, STAY & DRINK WINE!\nYour Hosts: Northeastern Maryland Kennel Club & The Responsible Dog Owners of Maryland\, Inc. Supported by: American Kennel Club Meetups.\n\n\nMeet & Greet AKC Dog Breeds: Australian Shepherds\, Bloodhound\, Collies\, Biewer Terrier\, Doberman Pincher and more.\n\n\nMeet Baltimore’s One and Only “Dog Chef”\, Kevyn Matthews.\n\n\nMeet fellow dog enthusiast from the Northeastern Maryland Kennel Club and Responsible Dog Owners of Maryland.\n\n\nWell behaved dogs are welcome\, please bring proof of rabies and any treats\, water\, & water bowl\, your dog may require.\n\n\nUnfriendly dogs may be asked to leave. Please pick up behind your dog.\n\n\nWe are also offering games for dogs\, light snacks\, basket raffles\, selected vendors\, fun\, etc.\n\n\nCome and Meet Us\n\n\nNo one under the age of 21 is allowed in the tasting room unless accompanied by a parent\, guardian or other adult relative.\nSorry\, Tickets for Wags & Wine are not refundable. All ticket sales are final.\nProceeds go to nonprofit Northeastern Maryland Kennel Club and the Responsible Dog Owners of Maryland\nWags & Wine will be held rain or shine on Sunday\, July 21st.\nWant to know more about your host? \n www.northeasternmarylandkennelclub.org\nwww.responsibledogownersofmaryland.org\nAmerican Kennel Club – www.akc.org\nNotice: At 4:00 p.m. There will be a brief general meeting of the Responsible Dog Owners of Maryland\, Inc. You are welcome to learn more about canine legislation in Maryland and how it may affect you!\n  \nClick here to purchase TICKETS through Eventbrite
URL:https://www.fiorewinery.com/event/wags-wine/
LOCATION:Fiore Winery\, 3026 Whiteford Road\, Pylseville\, MD\, 21132\, United States
END:VEVENT
BEGIN:VEVENT
DTSTART;TZID=America/New_York:20190728T130000
DTEND;TZID=America/New_York:20190728T160000
DTSTAMP:20260419T212918
CREATED:20190128T185509Z
LAST-MODIFIED:20190128T185509Z
UID:14150-1564318800-1564329600@www.fiorewinery.com
SUMMARY:Music in the Vineyard with California Bob
DESCRIPTION:Bring a picnic basket and relax outside with live music from California Bob. There are no tickets required\, chilled bottles will be available for purchase\, and tastings are $5-10 per person with a souviner wine glass. \nAbout Me
URL:https://www.fiorewinery.com/event/music-in-the-vineyard-with-california-bob-7/
LOCATION:Fiore Winery\, 3026 Whiteford Road\, Pylseville\, MD\, 21132\, United States
CATEGORIES:Music in the Vineyard
ATTACH;FMTTYPE=image/jpeg:/wp-content/uploads/2018/01/CA-Bob-e1516224137389.jpg
ORGANIZER;CN="Rose Fiore":MAILTO:contact@fiorewinery.com
END:VEVENT
END:VCALENDAR