BEGIN:VCALENDAR
VERSION:2.0
PRODID:-//Fiore Winery - ECPv6.15.20//NONSGML v1.0//EN
CALSCALE:GREGORIAN
METHOD:PUBLISH
X-ORIGINAL-URL:https://www.fiorewinery.com
X-WR-CALDESC:Events for Fiore Winery
REFRESH-INTERVAL;VALUE=DURATION:PT1H
X-Robots-Tag:noindex
X-PUBLISHED-TTL:PT1H
BEGIN:VTIMEZONE
TZID:America/New_York
BEGIN:DAYLIGHT
TZOFFSETFROM:-0500
TZOFFSETTO:-0400
TZNAME:EDT
DTSTART:20180311T070000
END:DAYLIGHT
BEGIN:STANDARD
TZOFFSETFROM:-0400
TZOFFSETTO:-0500
TZNAME:EST
DTSTART:20181104T060000
END:STANDARD
BEGIN:DAYLIGHT
TZOFFSETFROM:-0500
TZOFFSETTO:-0400
TZNAME:EDT
DTSTART:20190310T070000
END:DAYLIGHT
BEGIN:STANDARD
TZOFFSETFROM:-0400
TZOFFSETTO:-0500
TZNAME:EST
DTSTART:20191103T060000
END:STANDARD
BEGIN:DAYLIGHT
TZOFFSETFROM:-0500
TZOFFSETTO:-0400
TZNAME:EDT
DTSTART:20200308T070000
END:DAYLIGHT
BEGIN:STANDARD
TZOFFSETFROM:-0400
TZOFFSETTO:-0500
TZNAME:EST
DTSTART:20201101T060000
END:STANDARD
END:VTIMEZONE
BEGIN:VEVENT
DTSTART;TZID=America/New_York:20190629T170000
DTEND;TZID=America/New_York:20190629T200000
DTSTAMP:20260421T033441
CREATED:20190522T120114Z
LAST-MODIFIED:20190605T184456Z
UID:15444-1561827600-1561838400@www.fiorewinery.com
SUMMARY:Wine on the Farm at The Steppingstone Farm Museum
DESCRIPTION:Join us for a lovely evening of wine tasting\, light apps\, music\, friends\, fun\, and FARMING at Steppingstone Farm Museum\, featuring the wines of the Gunpowder Wine Trail. Harford\, Mt. Felix\, Fiore\, and\, Royal Rabbit Vineyards\, will be on hand with free samples of a variety of fine wines\, and will also have bottles on sale. \nStroll the beautiful grounds of Steppingstone\, enjoy blacksmith/woodworking demonstrations\,and maybe feed the chickens\, all while sipping on your favorite local wine! Music\, light apps\, and seating will be under the stars in the charming Farm House Courtyard. All proceeds help Steppingstone continue to preserve Harford County’s rural heritage while remaining FREE and open to the public. \nAll guests will receive a souvenir wine glass etched with the Gunpowder and Steppingstone logos. \nHope to see you on the Farm!! \nEvent Website \nClick here to purchase Tickets through Eventbrite.
URL:https://www.fiorewinery.com/event/wine-on-the-farm-at-the-steppingstone-farm-museum/
CATEGORIES:Wine Festival
ATTACH;FMTTYPE=image/png:/wp-content/uploads/2018/09/Gunpowder-Wine-Trail-Logo-e1549635413871.png
END:VEVENT
END:VCALENDAR