BEGIN:VCALENDAR
VERSION:2.0
PRODID:-//Fiore Winery - ECPv6.15.20//NONSGML v1.0//EN
CALSCALE:GREGORIAN
METHOD:PUBLISH
X-WR-CALNAME:Fiore Winery
X-ORIGINAL-URL:https://www.fiorewinery.com
X-WR-CALDESC:Events for Fiore Winery
REFRESH-INTERVAL;VALUE=DURATION:PT1H
X-Robots-Tag:noindex
X-PUBLISHED-TTL:PT1H
BEGIN:VTIMEZONE
TZID:America/New_York
BEGIN:DAYLIGHT
TZOFFSETFROM:-0500
TZOFFSETTO:-0400
TZNAME:EDT
DTSTART:20180311T070000
END:DAYLIGHT
BEGIN:STANDARD
TZOFFSETFROM:-0400
TZOFFSETTO:-0500
TZNAME:EST
DTSTART:20181104T060000
END:STANDARD
BEGIN:DAYLIGHT
TZOFFSETFROM:-0500
TZOFFSETTO:-0400
TZNAME:EDT
DTSTART:20190310T070000
END:DAYLIGHT
BEGIN:STANDARD
TZOFFSETFROM:-0400
TZOFFSETTO:-0500
TZNAME:EST
DTSTART:20191103T060000
END:STANDARD
BEGIN:DAYLIGHT
TZOFFSETFROM:-0500
TZOFFSETTO:-0400
TZNAME:EDT
DTSTART:20200308T070000
END:DAYLIGHT
BEGIN:STANDARD
TZOFFSETFROM:-0400
TZOFFSETTO:-0500
TZNAME:EST
DTSTART:20201101T060000
END:STANDARD
END:VTIMEZONE
BEGIN:VEVENT
DTSTART;TZID=America/New_York:20190406T120000
DTEND;TZID=America/New_York:20190406T170000
DTSTAMP:20260421T063907
CREATED:20190128T170250Z
LAST-MODIFIED:20190128T170250Z
UID:14137-1554552000-1554570000@www.fiorewinery.com
SUMMARY:Decanter Reimagined – A Racing & Wine Experience
DESCRIPTION:The Maryland Wineries Association and Decanter return to Laurel Park for a five-course wine brunch\, a Maryland wine tasting\, and a day at the races! \nLaurel Park’s Culinary Team has prepared an intimate\, five-course tasting brunch that has been expertly paired with a collection of curated Maryland wine. The menu of small plates will be posted when the final dishes and wines have been selected. Hosted in the newly-renovated Sports Bar at Laurel Park\, this haute brunch will kick off a day of delicious tasting and exciting races. \nFollowing brunch\, Decanter opens to a three-and-a-half hour tasting showcasing Maryland-made wine. Meet the people behind your favorite wineries and vineyards while sampling offerings from throughout the state. An oyster bar will be set up featuring a-la-carte oysters\, just pay by the shuck! When you find the wines you love\, bottles can be purchased directly from the winery representatives–enjoy a bottle on the grand stand or take your bottles home to enjoy later. \nPasses may be purchased solely for the Decanter Tasting. These passes will not include entry to the exclusive Decanter Brunch Experience. \nDecanter Passes and Tiers \nDecanter Brunch Experience – $85 (includes Decanter Tasting Pass) \nThe Decanter Brunch Experience features a five-course tasting brunch menu of small plates\, paired with a curated selection of Maryland wine. Following this exclusive brunch\, join representatives of Maryland wineries for the Decanter Tasting Session. Your Decanter Brunch Pass includes brunch\, entry to the Decanter Tasting\, a souvenir glass\, unlimited wine tasting\, and access to purchase bottles of wine at the event. Tickets to the Decanter Brunch Experience are limited. \nDecanter Tasting Pass – $35 \nThe Decanter Tasting Session is a three-and-a-half hour showcase featuring wine from throughout Maryland. Your Decanter Tasting Session Pass includes entry to the Decanter Tasting Session\, a souvenir glass\, unlimited wine tasting\, and access to purchase bottles of wine at the event. \n>>> PURCHASE PASSES HERE
URL:https://www.fiorewinery.com/event/decanter-reimagined-a-racing-wine-experience/
CATEGORIES:Wine Festival
END:VEVENT
BEGIN:VEVENT
DTSTART;TZID=America/New_York:20190413T120000
DTEND;TZID=America/New_York:20190413T170000
DTSTAMP:20260421T063907
CREATED:20190128T164354Z
LAST-MODIFIED:20190128T164354Z
UID:14122-1555156800-1555174800@www.fiorewinery.com
SUMMARY:Lock House Craft Beer & Wine Festival
DESCRIPTION:April 13\, 2019 12-5pm\n\n\nCraft Beer & Wine Festival Information\n\n\n\n\n\n\n\n\n\n\n\n\n\n\n\n\n\n\n\n\nLocal Artisans\n\n\n\nArt\, crafts and other handmade items are available from local artisans- all Made in Maryland!\n\n\n\n\n\n\n\n\n\n\n\n\n\nWine & Cocktails\n\n\n\nSample Maryland wine & spirits. Purchase wine and cocktails then take home your favorites.\n\n\n\n\n\n\n\nLive Music\n\n\n\nLive music on the stage featuring hits from the 80s (with some 70s and 90s\, too).\n\n\n\n\n\n\n\n\n\n\n\n\n\nFestival Location\n\n\n\nEnjoy the views and the history of the Lock House on the beautiful Susquehanna river.\n\n\n\n\n\n\n\nLocal Food\n\n\n\nEnjoy an array of foods from local restaurants and Maryland food trucks as well as savory and sweet treats.\n\n\n\n\n\n\n\n\n\n\nGENERAL ADMISSION \n$35 advance/ $45 at the door. BUY NOW! \nCommemorative festival cup with unlimited beer\, wine\, & spirits sampling. Full pours of beer\, glasses and bottles of wine\, cocktails and closed bottles of spirits are for purchase. \nDesignated Driver \nDesignated Drivers are free. \nThis is a 21+ event.
URL:https://www.fiorewinery.com/event/lock-house-craft-beer-wine-festival-2/
CATEGORIES:Wine Festival
END:VEVENT
END:VCALENDAR