BEGIN:VCALENDAR
VERSION:2.0
PRODID:-//Fiore Winery - ECPv6.15.20//NONSGML v1.0//EN
CALSCALE:GREGORIAN
METHOD:PUBLISH
X-WR-CALNAME:Fiore Winery
X-ORIGINAL-URL:https://www.fiorewinery.com
X-WR-CALDESC:Events for Fiore Winery
REFRESH-INTERVAL;VALUE=DURATION:PT1H
X-Robots-Tag:noindex
X-PUBLISHED-TTL:PT1H
BEGIN:VTIMEZONE
TZID:America/New_York
BEGIN:DAYLIGHT
TZOFFSETFROM:-0500
TZOFFSETTO:-0400
TZNAME:EDT
DTSTART:20170312T070000
END:DAYLIGHT
BEGIN:STANDARD
TZOFFSETFROM:-0400
TZOFFSETTO:-0500
TZNAME:EST
DTSTART:20171105T060000
END:STANDARD
BEGIN:DAYLIGHT
TZOFFSETFROM:-0500
TZOFFSETTO:-0400
TZNAME:EDT
DTSTART:20180311T070000
END:DAYLIGHT
BEGIN:STANDARD
TZOFFSETFROM:-0400
TZOFFSETTO:-0500
TZNAME:EST
DTSTART:20181104T060000
END:STANDARD
BEGIN:DAYLIGHT
TZOFFSETFROM:-0500
TZOFFSETTO:-0400
TZNAME:EDT
DTSTART:20190310T070000
END:DAYLIGHT
BEGIN:STANDARD
TZOFFSETFROM:-0400
TZOFFSETTO:-0500
TZNAME:EST
DTSTART:20191103T060000
END:STANDARD
END:VTIMEZONE
BEGIN:VEVENT
DTSTART;TZID=America/New_York:20181013T100000
DTEND;TZID=America/New_York:20181013T180000
DTSTAMP:20260421T164623
CREATED:20180322T175525Z
LAST-MODIFIED:20180910T204801Z
UID:9485-1539424800-1539453600@www.fiorewinery.com
SUMMARY:Maryland Wine Festival
DESCRIPTION:http://www.marylandwine.org/mwf/ \nClick here to sign up to volunteer with Fiore in pouring wine at the festival.
URL:https://www.fiorewinery.com/event/maryland-wine-festival/
CATEGORIES:Wine Festival
END:VEVENT
END:VCALENDAR