BEGIN:VCALENDAR
VERSION:2.0
PRODID:-//Fiore Winery - ECPv6.15.20//NONSGML v1.0//EN
CALSCALE:GREGORIAN
METHOD:PUBLISH
X-ORIGINAL-URL:https://www.fiorewinery.com
X-WR-CALDESC:Events for Fiore Winery
REFRESH-INTERVAL;VALUE=DURATION:PT1H
X-Robots-Tag:noindex
X-PUBLISHED-TTL:PT1H
BEGIN:VTIMEZONE
TZID:America/New_York
BEGIN:DAYLIGHT
TZOFFSETFROM:-0500
TZOFFSETTO:-0400
TZNAME:EDT
DTSTART:20170312T070000
END:DAYLIGHT
BEGIN:STANDARD
TZOFFSETFROM:-0400
TZOFFSETTO:-0500
TZNAME:EST
DTSTART:20171105T060000
END:STANDARD
BEGIN:DAYLIGHT
TZOFFSETFROM:-0500
TZOFFSETTO:-0400
TZNAME:EDT
DTSTART:20180311T070000
END:DAYLIGHT
BEGIN:STANDARD
TZOFFSETFROM:-0400
TZOFFSETTO:-0500
TZNAME:EST
DTSTART:20181104T060000
END:STANDARD
BEGIN:DAYLIGHT
TZOFFSETFROM:-0500
TZOFFSETTO:-0400
TZNAME:EDT
DTSTART:20190310T070000
END:DAYLIGHT
BEGIN:STANDARD
TZOFFSETFROM:-0400
TZOFFSETTO:-0500
TZNAME:EST
DTSTART:20191103T060000
END:STANDARD
END:VTIMEZONE
BEGIN:VEVENT
DTSTART;TZID=America/New_York:20180818T113000
DTEND;TZID=America/New_York:20180818T183000
DTSTAMP:20260421T200548
CREATED:20180322T180105Z
LAST-MODIFIED:20180814T120344Z
UID:9491-1534591800-1534617000@www.fiorewinery.com
SUMMARY:Fiore's Annual Art\, Jazz\, & Wine Festival
DESCRIPTION:Music schedule: \n12:30 – 3:30 Fred Moss Band \n3:30 – 6:30pm  Jazz Caravan \n  \nFood available for purchase from Village Bistro \n  \nPremium Cigars available for purchase from CIGAR-ette City LLC. \n  \nTickets are available in the Tasting Room\, at the gate\, or online here. \n  \nGroups of 10 or more please call the winery for group rates.
URL:https://www.fiorewinery.com/event/fiores-annual-art-jazz-wine-festival/
LOCATION:Fiore Winery\, 3026 Whiteford Road\, Pylseville\, MD\, 21132\, United States
CATEGORIES:Wine Festival
ATTACH;FMTTYPE=image/jpeg:/wp-content/uploads/2018/03/website-logo.jpg
ORGANIZER;CN="Rose Fiore":MAILTO:contact@fiorewinery.com
END:VEVENT
END:VCALENDAR